Workbook
Name _A: OFFSET([1]漆包线常用规格!#REF!,,,COUNT([1]漆包线常用规格!$A:$A))
Name _A1: MAX(IF(_A<=[1]漆包线常用规格!$F$2,_A))
Name _A2: MIN(IF(_A>=MIN(MAX([1]漆包线常用规格!$A:$A),[1]漆包线常用规格!$F$2),_A))
Name A: 2*Buck!Vin_min*Buck!Vin_min*Buck!Cin*0.000001*PI()*Buck!Fline
Name A: 2*BuckBoost!Vin_min*BuckBoost!Vin_min*BuckBoost!Cin*0.000001*PI()*BuckBoost!Fline
Name Ae: Buck!$M$28
Name Ae: BuckBoost!$M$30
Name Ae: '[1]Spread sheet'!#REF!
Name Aec: '[1]Spread sheet'!$F$41
Name Aem: INDEX(#REF!,'[1]Spread sheet'!$F$39,)
Name Ap_a: Lpfc*Ipk*Irms_max/(Bmax_a*Kd_a*Kf_a)/10
Name Apm: INDEX(#REF!,'[1]Spread sheet'!$F$39,)
Name App: '[1]Spread sheet'!#REF!
Name Awc: '[1]Spread sheet'!$F$42
Name Awm: INDEX(#REF!,'[1]Spread sheet'!$F$39,)
Name B: (0.22-PI()/2)*Buck!Pin_nom
Name B: (0.22-PI()/2)*BuckBoost!Pin_nom
Name B_: (0.2636-PI()/2)*Buck!Pin_nom
Name B_: (0.2636-PI()/2)*BuckBoost!Pin_nom
Name BH: (0.22-PI())*Buck!Pin_nom
Name BH: (0.22-PI())*BuckBoost!Pin_nom
Name BH_: (0.22-PI())*Buck!Pin_nom
Name BH_: (0.22-PI())*BuckBoost!Pin_nom
Name Bmax: Buck!$M$23
Name Bmax: BuckBoost!$M$25
Name Bmax: '[1]Spread sheet'!$F$34
Name Bmax_a: 0.3
Name Bsat: #REF!
Name BV_a: Vovp-35-0.5
Name BV_aH: INDEX(#REF!,LOOKUP(BV_a,#REF!,ROW(#REF!)+1))
Name BV_aL: INDEX(#REF!,LOOKUP(BV_a,#REF!,ROW(#REF!)))
Name BV_ar: IF(BV_a-BV_aL>BV_aH-BV_a,BV_aH,BV_aL)
Name C_: Buck!Cin*0.000001*PI()*Buck!Fline
Name C_: BuckBoost!Cin*0.000001*PI()*BuckBoost!Fline
Name Cin: Buck!$F$36
Name Cin: BuckBoost!$F$36
Name Co: Io/(2*PI()*Fac*ΔVO*η)*1000
Name D: 0.012*Buck!Pin_nom/(Buck!Cin*0.000001*PI()*Buck!Fline)
Name D: 0.012*BuckBoost!Pin_nom/(BuckBoost!Cin*0.000001*PI()*BuckBoost!Fline)
Name d: SQRT(Irms_max/Kd_a/PI())*2
Name D_: 0.0056*Buck!Pin_nom/(Buck!Cin*0.000001*PI()*Buck!Fline)
Name D_: 0.0056*BuckBoost!Pin_nom/(BuckBoost!Cin*0.000001*PI()*BuckBoost!Fline)
Name dm: IF('[1]Spread sheet'!#REF!=1," ",INDEX([1]漆包线常用规格!$A$4:$A$45,'[1]Spread sheet'!$F$44,))
Name Dmax: BuckBoost!Vo/(BuckBoost!$F$37+BuckBoost!Vo)
Name dmm: IF(dm=" ",0,dm)
Name Dvdd: 0.1
Name Eff: #REF!
Name Fac: '[1]Spread sheet'!$F$18
Name Fline: Buck!$F$25
Name Fline: BuckBoost!$F$25
Name fmin: #REF!
Name Fsw: 31*1000
Name Fsw: 31*1000
Name Fsw_max: 60000
Name Fsw_max: 60000
Name Fsw_min: 40000
Name Fsw_min: 40000
Name Fsw_min: '[1]Spread sheet'!$F$19
Name Fsw_type: Buck!$F$46*1000
Name Fsw_type: BuckBoost!#REF!*1000

Sheet Buck
B1: Non-isolated Buck Regulator Design using KP321XB
P2: input parameter for customer 输入区域
P3: Calculated Result for Circuit Key Component 计算结果
A7: Typical Application Circuit（典型应用电路）
A21: 1. Define System Specifications（系统规格） | H21: 2. Buck Inductor Design (电感设计)-续上
A22: Input Specification (输入规格): | H22: RMS Current of Inductor (Irms，电感电流有效值) | M22: =Irms_Lbuck/1000 -> 0.33867513 | N22: A
A23: Minimum RMS Line Voltage (Vin_min，最低输入电压) | F23: 90 | G23: VAC | H23: Max Flux Density (Bmax，最大磁通密度) | M23: 0.3 | N23: T
A24: Maximum RMS Line Voltage (Vin_max，最高输入电压) | F24: 265 | G24: VAC | H24: Max Current Density of Coil (Kd，最大电流密度) | M24: 8 | N24: A/mm2
A25: Line Frequency(Fac，输入电压频率) | F25: 50 | G25: Hz | H25: Bobbin Fill Factor(Kf，骨架填充系数) | M25: 0.6
A26: Output Specification (输出规格): | H26: Core AP Value(AP，磁芯AP值) | M26: =0.0001*Lbuck_type*0.001*Irms_Lbuck*Vcs/(Rsen*Bmax*Kd*Kf) -> 0.0054219455 | N26: cm4
A27: Normal Output Voltage (Vo，额定输出电压) | F27: 8 | G27: V | H27: Select Core Type (磁芯选择) | M27: EE10
A28: Rated DC Output Current (Io，额定输出电流) | F28: 300 | G28: mA | H28: Effective Cross-Sectional Area (Ae，磁芯有效截面积) | M28: 12.1 | N28: mm2 | P28: Full Wave Rectification
A29: Estimated System Efficiency (η，系统效率预估，%) | F29: 0.7 | H29: Total Winding Turns Number (N，线圈匝数) | M29: =ROUNDDOWN(Lbuck_type*Vcs/Rsen/(Bmax*Ae),0) -> 63 | N29: Turns | P29: Half Wave Rectification
A30: Recommended IC (推荐IC) | F30: =IF(Io<=250,"KP321AB",IF(Io<=400,"KP3210B",IF(Io<=700,"KP3211B",IF(Io<=900,"KP3212B","KP321B")))) -> KP3210B | H30: Recommended Winding Diameter (线圈直径) | M30: =ROUNDDOWN(SQRT(4*0.001*Irms_Lbuck/(Kd*1000000*PI()))*1000,2) -> 0.23 | N30: mm
A31: IC Selection (IC选择) | F31: KP3210B | H31: 3. Other Parameters （其他参数）
A32: Input Bulk Capacitor Selection (输入电容选择): | H32: FB Lower Resistor Value Selection (RFB1，RFB1电阻) | M32: 2 | N32: kΩ | O32: =IF(Vo=12,1,0) -> 0
A33: Calculated Input Power (Pin，输入功率计算) | F33: =Vo*Io/η/1000 -> 3.4285714 | G33: W | H33: =IF(M32>=2,IF(Vo<10,"RFB1 is OK!",IF(I45+I46>20,"RFB1 is OK!","Warning, RFB1 is too small and need to be increased!")),"Warning, RFB1 is too small and need to be increased!") -> RFB1 is OK!
A34: Selected Rectification Type (整流桥类型选择): | F34: 1 | H34: Dummy Resistor (Rdummy，假负载电阻) | M34: 16 | N34: ="kΩ (Rdummy>"&ROUNDUP(Rdummy_max,1)&"kΩ)" -> kΩ (Rdummy>5.4kΩ)
A35: Minimum Needed Input Capacitor (CIN，最小输入电容预估) | F35: =IF(F34=1,1*F33,2*F33) -> 3.4285714 | G35: μF | H35: Vo ripple Coefficient (krp，输出电压纹波系数) | M35: 0.01
A36: Selected Input Capacitor Value(CIN，输入电容选择) | F36: 4.7 | G36: μF | H36: Max ESR of Output Capacitor (Resr_max，输出电容ESR最大值) | M36: =1000*M35*Vo/(2*(Buck!Vcs/Buck!Rsen-Buck!Io)) -> 0.16 | N36: Ω
A37: Minimum DC Input Voltage (Vindc_min，整流桥后最低输入电压) | F37: =IF(Buck!F34=1,Buck!Vdcmin_F,Buck!Vdcmin_H) -> 75.592395 | G37: V | H37: 4. Bom of Key Components（关键器件参数表）
A38: =IF(F37>Vo/0.42,"Cin is OK!","Warning, Cin is too small and need to be increased!") -> Cin is OK! | H38: Component | I38: Value | J38: Description
A39: Sensing Resistor Selection (采样电阻选择): | H39: Cin | I39: =Cin -> 4.7 | J39: ="Electrolytic Cap"&","&IF(Vin_max>140,"400V","250V") -> Electrolytic Cap,400V
A40: Minimum Current Sensing Resistor Value (Rcs_min，最小采样电阻) | F40: =Rsen_min -> 1 | G40: Ω | H40: Co | I40: 220 | J40: ="Electrolytic Cap, ESR<"&ROUNDDOWN(M36,2)&"Ω" -> Electrolytic Cap, ESR<0.16Ω
A41: Maximum Current Sensing Resistor Value (Rcs_max，最大采样电阻) | F41: =Rsen_max -> 1.6666667 | G41: Ω | H41: Cvdd | I41: 1 | J41: Ceramic Cap, X7R
A42: BCM Mode Current Sensing Resistor Value (Rcs_BCM，临界采样电阻) | F42: =Rsen_th -> 0.91666667 | G42: Ω | H42: C1 | I42: =IF(Vo<10,1,"NC") -> 1 | J42: Ceramic Cap, X7R
A43: Select Current Sensing Resistor Value (Rcs，采样电阻选择) | F43: 1 | G43: Ω | H43: L | I43: =Lbuck_type -> 0.41915209 | J43: ="Core="&M27&", "&"N="&M29&" ("&M30&"mm"&" )"&",Isat>"&ROUNDUP(F49,2)&"A" -> Core=EE10, N=63 (0.23mm ),Isat>0.55A
A44: =IF(Rsen>Rsen_max,"This Rsense is improper. Please Reselect it.",IF(Rsen>Rsen_th,"System works in CCM Mode at Full Load.","System works in DCM Mode at Full Load.")) -> System works in CCM Mode at Full Load. | H44: Rsen | I44: =Rsen -> 1 | J44: 1206, Film Resistor, 1%
A45: 2. Buck Inductor Design (电感设计) | H45: Rfb1 | I45: =IF(Vo=12,"NC",M32) -> 2 | J45: Film Resistor, 1%
A46: Typical Switching Frequency (Fsw_type，满载典型开关频率) | F46: 40 | G46: kHz | H46: Rfb2 | I46: =IF(Vo=12,"NC",M32*(Kfb-1)) -> 6.7 | J46: Film Resistor, 1%
A47: Calculated Type Inductance Value (Lnom_type，典型电感值) | F47: =IF(Rsen>Rsen_max,"False!",Lbuck_type) -> 0.41915209 | G47: mH | H47: Rdummy | I47: =M34 -> 16 | J47: 1206, Film Resistor, 5%
A48: Typical Toff Time Check (Toff_type，典型Toff时间) | F48: =Toff_type -> 24.089201 | G48: 17us<t<26us | H48: D1 | I48: 1A/600V | J48: ="Fast Recovery Diode,ID>"&ROUNDUP(0.001*ILpk,2)&"A, Vrrm>"&ROUNDUP(SQRT(2)*Vin_max,0)&"V" -> Fast Recovery Diode,ID>0.55A, Vrrm>375V
A49: Min Saturated Current of Inductor (Isat，电感最低饱和电流) | F49: =ILpk/1000 -> 0.55 | G49: A | H49: D2 | I49: FF1MS | J49: ="Fast Recovery Diode,Vrrm>"&ROUNDUP(Vin_max*SQRT(2),0)&"V" -> Fast Recovery Diode,Vrrm>375V
A50: =IF(OR(Toff_type<17,Toff_type>26),"This Inductor is improper. Please Reselect Rsense or Fsw_type.","Check Toff_type is OK.") -> Check Toff_type is OK. | H50: IC | I50: =F31 -> KP3210B | J50: High Performance Low Cost Off-line PWM Power Switch

Sheet BuckBoost
B1: Non-isolated Buckboost Regulator Design using KP321XB
P2: input parameter for customer 输入区域
P3: Calculated Result for Circuit Key Component 计算结果
A7: Typical Application Circuit（典型应用电路）
A21: 1. Define System Specifications（系统规格） | H21: 2. Buckboost Inductor Design (电感设计)-续
A22: Input Specification (输入规格): | H22: Select Inductor Value (Lnom，电感值选择) | M22: 1 | N22: mH
A23: Minimum RMS Line Voltage (Vin_min，最低输入电压) | F23: 90 | G23: VAC | H23: Minimum Saturated Current of Inductor (Isat，电感最低饱和电流) | M23: =ILpk -> 0.55 | N23: A
A24: Maximum RMS Line Voltage (Vin_max，最高输入电压) | F24: 120 | G24: VAC | H24: RMS Current of Inductor (Irms，电感电流有效值) | M24: =IF(A46,Irms_buckboost_dcm,Irms_Lbuckboost) -> 0.44391734 | N24: A
A25: Line Frequency(Fac，输入电压频率) | F25: 60 | G25: Hz | H25: Maximum Flux Density (Bmax，最大磁通密度) | M25: 0.3 | N25: T
A26: Output Specification (输出规格): | H26: Maximum Current Density of Coil (Kd，最大电流密度) | M26: 6 | N26: A/mm2
A27: DC Output Voltage (Vo，输出电压) | F27: 18 | G27: V | H27: Bobbin Fill Factor(Kf，骨架填充系数) | M27: 0.5 | P27: Full Wave Rectification
A28: Maximum DC Output Current (Io，系统最大输出电流) | F28: 300 | G28: mA | H28: Core AP Value(AP，磁芯AP值) | M28: =0.1*Lnom*Irms_Lbuckboost*ILpk/(Bmax*Kd*Kf) -> 0.027128282 | N28: cm4 | P28: Half Wave Rectification
A29: Estimated System Efficiency (η，系统效率，%) | F29: 0.7 | H29: Select Core Type (磁芯选择) | M29: EE13
A30: Recommended IC (推荐IC) | F30: 自选或者咨询原厂 | H30: Effective Cross-Sectional Area (Ae，磁芯有效截面积) | M30: 17.1 | N30: mm2
A31: IC Selection (IC选择) | F31: KP3211B | H31: Total Winding Turns Number (N，线圈匝数) | M31: =ROUNDDOWN(Lnom*550/Rsen/(Bmax*Ae),0) -> 107 | N31: Turns
A32: Input Bulk Capacitor Selection (输入电容选择): | H32: Recommended Winding Diameter (线圈直径) | M32: =ROUNDUP(SQRT(4*Irms_Lbuckboost/(Kd*PI())),2) -> 0.31 | N32: mm
A33: Input Power (Pin，输入功率) | F33: =Vo*Io/η/1000 -> 7.7142857 | G33: W | H33: 3. Other Parameters (其他参数) | O33: =IF(Vo=12,1,0) -> 0
A34: Selected Rectification Type (整流桥类型选择): | F34: 2 | H34: FB Lower Resistor Value Selection (RFB1，RFB1电阻) | M34: 5 | N34: kΩ
A35: Minimum Needed Input Capacitor (CIN，最小输入电容预估) | F35: =IF(F34=1,1*F33,2*F33) -> 15.428571 | G35: μF | H35: =IF(M34>=2,IF(Vo<10,"RFB1 is OK!",IF(I47+I48>20,"RFB1 is OK!","Warning, RFB1 is too small and need to be increased!")),"Warning, RFB1 is too small and need to be increased!") -> RFB1 is OK!
A36: Selected Input Capacitor Value(CIN，输入电容选择) | F36: 10 | G36: μF | H36: Dummy Resistor (Rdummy，假负载电阻) | M36: 20 | N36: ="kΩ (Rdummy>"&ROUNDUP(Rdummy_max,1)&"kΩ)" -> kΩ (Rdummy>27kΩ)
A37: Minimum DC Input Voltage (Vindc_min，整流桥后最低电压) | F37: =IF(F34=1,Vdcmin_F,Vdcmin_H) -> 45.059203 | G37: V | H37: Vo ripple Coefficient (krp，输出电压纹波系数) | M37: 0.01
A38: =IF(A46,IF(AND(F37>70,F37>Vo*4/3),"Cin is OK!","Warning, Recommended Vindc_min should >70V , Please Enlarge Cin Cap."),IF(F37>Vo*4/3,"Cin is OK!","Warning, Recommended Vindc_min should >70V , Please Enlarge Cin Cap.")) -> Cin is OK! | H38: Max ESR of Output Capacitor (Resr_max，输出电容ESR最大值) | M38: =1000*M37*Vo/((Vo+Vf)*20/Lnom) -> 0.48128342 | N38: Ω
A39: Sensing Resistor Selection (采样电阻选择): | H39: Bom of Key Components（关键器件参数表）
A40: Minimum Current Sensing Resistor (Rcs_min，最小采样电阻) | F40: =IF(Vo<24,Rccm_min+0.001,Rsen_min+0.001) -> 0.82668389 | G40: Ω | H40: Component | I40: Value | J40: Description
A41: Minimum CCM Mode Current Sensing Resistor (RCCM_MIN，最小CCM模式采样电阻值) | F41: =Rccm_min -> 0.82568389 | G41: Ω | H41: Cin | I41: =Cin -> 10 | J41: ="Electrolytic Cap"&","&IF(Vin_max>140,"400V","250V") -> Electrolytic Cap,250V
A42: Maximum DCM Mode Current Sensing Resistor (RDCM_MAX，最大DCM模式采样电阻值) | F42: =Rdcm_max -> 0.64781659 | G42: Ω | H42: Co | I42: 100 | J42: ="Electrolytic Cap, ESR<"&ROUNDDOWN(M38,2)&"Ω" -> Electrolytic Cap, ESR<0.48Ω
A43: Maximum Current Sensing Resistor Value (Rcs_max，最大采样电阻) | F43: =Rsen_max -> 1.3249677 | G43: Ω | H43: Cvdd | I43: 1 | J43: Ceramic Cap, X7R
A44: Select Sensing Resistor Value (Rcs，采样电阻选择) | F44: 1 | G44: Ω | H44: C1 | I44: =IF(Vo<10,1,"NC") -> NC | J44: Ceramic Cap, X7R
A45: Single Cycle Off Time High/Low Line Ratio (Ktoff, Ktoff值) | F45: 0.9 | G45: =IF(A46,"","Ktoff<1.25") -> Ktoff<1.25 | H45: L | I45: =Lnom -> 1 | J45: ="Core="&M29&", "&"N="&M31&" ("&M32&"mm"&" )"&",Isat>"&ROUNDUP(M23,2)&"A" -> Core=EE13, N=107 (0.31mm ),Isat>0.55A
A46: =AND(Rsen<Rdcm_max,Rsen>Rsen_min-0.001,Vo>23.99) -> FALSE | B46: =OR(Rsen<F40,Rsen>Rsen_max) -> FALSE | C46: =IF(Rsen>F43,"This Rcs is improper. Please Reselect it.",IF(AND(Rsen>F41,Rsen<F43),IF(AND(F45<1.25,F45>0),"Rcs is within range of CCM Mode!","This Rcs is too large. Please Reduce it or Enlagre Cin Capacitor."),IF(AND(Rsen>F40,Rsen<F42),"Rcs is within range of DCM Mode!","Caution! Please Choose Rcs as Rcs<Rdcm_max or Rccm_min<Rcs."))) -> Rcs is within range of CCM Mode! | H46: Rsen | I46: =Rsen -> 1 | J46: 1206, Film Resistor, 1%
A47: =IF(Vo<24,1,0) -> 1 | B47: =AND(Rsen<F41,Rsen>F42) -> FALSE | D47: =IF(Rsen>F43," ",IF(Rsen>F41,"System works in CCM Mode at Full Load.",IF(Rsen<F42,"System works in DCM Mode at Full Load."," "))) -> System works in CCM Mode at Full Load. | H47: Rfb1 | I47: =IF(Vo=12,"NC",M34) -> 5 | J47: Film Resistor, 1%
A48: 2. Buckboost Inductor Design (电感设计) | H48: Rfb2 | I48: =IF(Vo=12,"NC",M34*(Kfb-1)) -> 41.75 | J48: Film Resistor, 1%
A49: Calculated Minimum Inductance Value (Lnom_min，所需最小电感值) | F49: =IF(A46,Lbuckboost_min_dcm,IF(OR(Rsen>F43,F45>1.25,Lbuckboost_min<0),"False!",Lbuckboost_min)) -> 1.4900739 | G49: mH | H49: Rdummy | I49: =M36 -> 20 | J49: 1206, Film Resistor, 5%
A50: Calculated Maximum Inductance Value (Lnom_max，所需最大电感值) | F50: =IF(A46,Lbuckboost_max_dcm,IF(OR(Rsen>F43,F45>1.25,Lbuckboost_max<0),"False!",Lbuckboost_max)) -> 1.0774732 | G50: mH | H50: D1 | I50: 1A/600V | J50: ="Fast Recovery Diode,ID>"&ROUNDUP(ILpk,2)&"A, Vrrm>"&ROUNDUP(SQRT(2)*Vin_max+Vo,0)&"V" -> Fast Recovery Diode,ID>0.55A, Vrrm>188V
A51: =IF(OR(Rsen<F40,Rsen>Rsen_max),"",IF(F49>F50,"Calculated Lnom_min>Lnom_max. Please Reselect Rsense!","Check Lnom_min and Lnom_max are OK.")) -> Calculated Lnom_min>Lnom_max. Please Reselect Rsense! | H51: D2 | I51: FF1MS | J51: ="Fast Recovery Diode,Vrrm>"&ROUNDUP(7+Vo+Vin_max*SQRT(2),0)&"V" -> Fast Recovery Diode,Vrrm>195V
H52: IC | I52: =F31 -> KP3211B | J52: High Performance Low Cost Off-line PWM Power Switch

Sheet 常用变压器磁芯
A1: 常用型号磁芯选择与Ae值。（不同厂家生产的磁芯，Ae值有所不同，下面的数据仅供参考）
A2: TYPE | B2: MATERIAL | C2: Dimensions (mm) | D2: Ap | E2: Ae | F2: Aw | G2: 可配合BOBBIN
C3: A * B * C | D3: ( cm4 ) | E3: ( mm2 ) | F3: ( mm2 ) | G3: 幅寬 | H3: PIN | I3: 形狀
A4: EE05 | B4: PC40 | C4: 5.25*2.65*1.95 | D4: 0.001315 | E4: 2.63 | F4: 5 | G4: 2.7 | H4: 6-8 | I4: H
A5: EE6.3 | B5: PC40 | C5: 6.1*2.85*7.95 | D5: 0.00147626 | E5: 3.31 | F5: 4.46 | G5: 2.7 | H5: 6 | I5: H
A6: EE8 | B6: PC40 | C6: 8.3*4.0*3.6 | D6: 0.009135 | E6: 7 | F6: 13.05 | G6: 4.78 | H6: 6 | I6: H
A7: EE10/11 | B7: PC40 | C7: 10.2*5.5*4.75 | D7: 0.028677 | E7: 12.1 | F7: 23.7 | G7: 6.6 | H7: 8 | I7: V
A8: EE13 | B8: PC40 | C8: 13.0*6.0*6.15 | D8: 0.0570285 | E8: 17.1 | F8: 33.35 | G8: 7.4 | H8: 10 | I8: V
A9: EE16 | B9: PC40 | C9: 16*7.2*4.8 | D9: 0.076512 | E9: 19.2 | F9: 39.85 | G9: 8.5 | H9: 6-10 | I9: V H
A10: EE19 | B10: PC40 | C10: 19.1*7.95*5.0 | D10: 0.124292 | E10: 23 | F10: 54.04 | G10: 9 | H10: 6-8 | I10: V H
A11: EE19/16 | B11: PC40 | C11: 19.29*8.1*4.75 | D11: 0.119056 | E11: 22.4 | F11: 53.15 | G11: 9 | H11: 6-8 | I11: V H
A12: EE22 | B12: PC40 | C12: 22*9.35*5.75 | D12: 0.159039 | E12: 41 | F12: 38.79 | G12: 8.45 | H12: 8 | I12: V
A13: EE2825 | B13: PC40 | C13: 28*12.75*10.6 | D13: 0.852489 | E13: 86.9 | F13: 98.1 | G13: 9.6 | H13: 10 | I13: V
A15: TYPE | B15: MATERIAL | C15: Dimensions (mm) | D15: Ap | E15: Ae | F15: Aw | G15: 可配合BOBBIN
C16: A * B * C | D16: ( cm4 ) | E16: ( mm2 ) | F16: ( mm2 ) | G16: 幅寬 | H16: PIN | I16: 形狀
A17: EFD10 | B17: 3F3 | C17: 10.5*5.2*2.7 | D17: 0.008352 | E17: 7.2 | F17: 11.6 | G17: 6 | H17: 8 | I17: H
A18: EFD12 | B18: 3F3 | C18: 12.5*6.2*3.5 | D18: 0.0186732 | E18: 11.4 | F18: 16.38 | G18: 7.6 | H18: 8 | I18: H
A19: EFD15 | B19: 3F3 | C19: 15*7.5*4.65 | D19: 0.047025 | E19: 15 | F19: 31.35 | G19: 8.8 | H19: 8 | I19: H
A20: EFD20 | B20: 3C85 | C20: 20*10*6.65 | D20: 0.155 | E20: 31 | F20: 50 | G20: 13.5 | H20: 8 | I20: H
A21: EFD25 | B21: 3C90 | C21: 25*12.5*9.1 | D21: 0.393762 | E21: 58 | F21: 67.89 | G21: 16.4 | H21: 10 | I21: H
A22: EFD30 | B22: 3C90 | C22: 30*15*9.1 | D22: 0.602784 | E22: 69 | F22: 87.36 | G22: 20.1 | H22: 12 | I22: H
A24: TYPE | B24: MATERIAL | C24: Dimensions (mm) | D24: Ap | E24: Ae | F24: Aw | G24: 可配合BOBBIN
C25: A * B * C | D25: ( cm4 ) | E25: ( mm2 ) | F25: ( mm2 ) | G25: 幅寬 | H25: PIN | I25: 形狀
A26: EPC13 | B26: PC44 | C26: 13.3*6.6*4.6 | D26: 0.02875 | E26: 12.5 | F26: 23 | G26: 6.9 | H26: 10 | I26: H
A27: EPC19 | B27: PC44 | C27: 19.1*9.75*6 | D27: 0.123488 | E27: 22.7 | F27: 54.4 | G27: 12.2 | H27: 12 | I27: H
A28: EPC25 | B28: PC44 | C28: 25.1*12.5*8 | D28: 0.39672 | E28: 46.4 | F28: 85.5 | G28: 14.7 | H28: 12 | I28: H
A29: EPC25B | B29: PC44 | C29: 25.1*11.43*6.5 | D29: 0.206793 | E29: 33.3 | F29: 62.1 | G29: 14.7 | H29: 12 | I29: H
A30: EPC27 | B30: PC44 | C30: 27.1*16*8 | D30: 0.58968 | E30: 54.6 | F30: 108 | G30: 20.5 | H30: 12 | I30: H
A31: EPC30 | B31: PC44 | C31: 30.1*17.5*8 | D31: 0.7137 | E31: 61 | F31: 117 | G31: 22.8 | H31: 12 | I31: H
A33: TYPE | B33: MATERIAL | C33: Dimensions (mm) | D33: Ap | E33: Ae | F33: Aw | G33: 可配合BOBBIN
C34: A * B * C | D34: ( cm4 ) | E34: ( mm2 ) | F34: ( mm2 ) | G34: 幅寬 | H34: PIN | I34: 形狀
A35: RM4 | B35: PC40 | C35: 10.8*5.2*4.45 | D35: 0.02184 | E35: 14 | F35: 15.6 | G35: 5.9 | H35: 4-6 | I35: V
A36: RM5 | B36: PC40 | C36: 14.3*5.2*6.6 | D36: 0.043134 | E36: 23.7 | F36: 18.2 | G36: 4.9 | H36: 4-6 | I36: V
A37: RM6 | B37: PC40 | C37: 17.6*6.2*8 | D37: 0.09516 | E37: 36.6 | F37: 26 | G37: 6.4 | H37: 4-6 | I37: V
A38: RM8 | B38: PC40 | C38: 22.75*8.2*10.8 | D38: 0.31296 | E38: 64 | F38: 48.9 | G38: 9.15 | H38: 8-12 | I38: V
A39: RM10 | B39: PC40 | C39: 27.85*9.3*13.25 | D39: 0.6811 | E39: 98 | F39: 69.5 | G39: 10.75 | H39: 10-12 | I39: V
A41: TYPE | B41: MATERIAL | C41: Dimensions (mm) | D41: Ap | E41: Ae | F41: Aw | G41: 可配合BOBBIN
C42: A * B * C | D42: ( cm4 ) | E42: ( mm2 ) | F42: ( mm2 ) | G42: 幅寬 | H42: PIN | I42: 形狀
A43: PQ20/16 | B43: PC44 | C43: 20.5*8.1*14 | D43: 0.2914 | E43: 62 | F43: 47 | G43: 11.9 | H43: 12 | I43: V
A44: PQ20/20 | B44: PC44 | C44: 20.5*10.1*14 | D44: 0.40796 | E44: 62 | F44: 65.8 | G44: 11.9 | H44: 12 | I44: V
...

Sheet Revision History
B2: Data | C2: Revision | D2: Content | E2: Author
B3: 43726 | C3: 1 | D3: First Release | E3: Wayne
B4: 45218 | C4: 1.1 | D4: 修改Rfb1参数设置: 1、Rfb1建议须大于2k； 2、Vo>10V条件下，考虑到用户可能会公用VDD和FB电容，设计上需要满足Rfb1+Rfb2>20k，避免出现开机VDD钳位无法开机问题； | E4: Winters

Sheet Cap
B1: CAP | C1: MOSFET | D1: IDSS | E1: DIODE
B2: 0.47 | C2: 100 | D2: 1 | E2: 50
B3: 1 | C3: 150 | D3: 2 | E3: 100
B4: 2.2 | C4: 200 | D4: 2.5 | E4: 150 | G4: Vds | H4: Vrrm | I4: CoH | J4: CoL | K4: Co实际 | L4: Co计算
B5: 3.3 | C5: 250 | D5: 4 | E5: 200 | G5: =INDEX(Cap!$C:$C,LOOKUP(1.4*Vdsmax,Cap!$C:$C,ROW(Cap!$C:$C)+1)) -> 250 | H5: =INDEX(Cap!$E:$E,LOOKUP(1.4*Vdsmax,Cap!$E:$E,ROW(Cap!$E:$E)+1)) -> 300 | I5: =INDEX(Cap!$B:$B,LOOKUP(Co,Cap!$B:$B,ROW(Cap!$B:$B)+1)) -> #REF! | J5: =INDEX(Cap!$B:$B,LOOKUP(Co,Cap!$B:$B,ROW(Cap!$B:$B))) -> #REF! | K5: =IF(I5-Co<Co-J5,I5,J5) -> #REF! | L5: =Co -> #REF!
B6: 4.7 | C6: 400 | D6: 7 | E6: 300
B7: 10 | C7: 500 | D7: 8 | E7: 400 | I7: =1.4*Vdsmax -> 237.58788
B8: 22 | C8: 600 | E8: 500
B9: 33 | C9: 650 | E9: 600
B10: 47 | C10: 800 | E10: 800
B11: 100 | C11: 900 | E11: 1000
B12: 220 | C12: 1000 | E12: 1200
B13: 330
B14: 470
B15: 680
B16: 1000
B17: 2200
B18: 3300
B19: 4700
B20: 6800

Sheet Components
A1: Data Sheet | B1: Part Number | C1: Product small description | D1: Configuration | E1: Power Rating (mW) | F1: Nom V Z | G1: @ I ZT (mA) | H1: Tol V (Typ) (%) | I1: I R (µA) | J1: Package Outlines
A2: ds18010.pdf | B2: MMSZ5221B | D2: Single | E2: 500 | F2: 2.4 | G2: 20 | H2: 5 | I2: 100 | J2: SOD123
A3: ds18010.pdf | B3: MMSZ5223B | D3: Single | E3: 500 | F3: 2.7 | G3: 20 | H3: 5 | I3: 75 | J3: SOD123
A4: ds18010.pdf | B4: MMSZ5225B | D4: Single | E4: 500 | F4: 3 | G4: 20 | H4: 5 | I4: 50 | J4: SOD123
A5: ds18010.pdf | B5: MMSZ5226B | D5: Single | E5: 500 | F5: 3.3 | G5: 20 | H5: 5 | I5: 25 | J5: SOD123
A6: ds18010.pdf | B6: MMSZ5227B | D6: Single | E6: 500 | F6: 3.6 | G6: 20 | H6: 5 | I6: 15 | J6: SOD123
A7: ds18010.pdf | B7: MMSZ5228B | D7: Single | E7: 500 | F7: 3.9 | G7: 20 | H7: 5 | I7: 10 | J7: SOD123
A8: ds18010.pdf | B8: MMSZ5229B | D8: Single | E8: 500 | F8: 4.3 | G8: 20 | H8: 5 | I8: 5 | J8: SOD123
A9: ds18010.pdf | B9: MMSZ5230B | D9: Single | E9: 500 | F9: 4.7 | G9: 20 | H9: 5 | I9: 5 | J9: SOD123
A10: ds18010.pdf | B10: MMSZ5231B | D10: Single | E10: 500 | F10: 5.1 | G10: 20 | H10: 5 | I10: 5 | J10: SOD123
A11: ds18010.pdf | B11: MMSZ5232B | D11: Single | E11: 500 | F11: 5.6 | G11: 20 | H11: 5 | I11: 5 | J11: SOD123
A12: ds18010.pdf | B12: MMSZ5233B | D12: Single | E12: 500 | F12: 6 | G12: 20 | H12: 5 | I12: 5 | J12: SOD123
A13: ds18010.pdf | B13: MMSZ5234B | D13: Single | E13: 500 | F13: 6.2 | G13: 20 | H13: 5 | I13: 5 | J13: SOD123
A14: ds18010.pdf | B14: MMSZ5235B | D14: Single | E14: 500 | F14: 6.8 | G14: 20 | H14: 5 | I14: 3 | J14: SOD123
A15: ds18010.pdf | B15: MMSZ5236B | D15: Single | E15: 500 | F15: 7.5 | G15: 20 | H15: 5 | I15: 3 | J15: SOD123 | L15: Auto | M15: =INDEX(Components!$F:$F,LOOKUP(BV_ar,Components!$F:$F,ROW(Components!$F:$F))) -> #REF! | N15: =INDEX(Components!$B:$B,LOOKUP(BV_ar,Components!$F:$F,ROW(Components!$F:$F))) -> #REF! | O15: =INDEX($J:$J,LOOKUP(BV_ar,$F:$F,ROW($F:$F))) -> #REF!
A16: ds18010.pdf | B16: MMSZ5237B | D16: Single | E16: 500 | F16: 8.2 | G16: 20 | H16: 5 | I16: 3 | J16: SOD123 | L16: Manual
A17: ds18010.pdf | B17: MMSZ5238B | D17: Single | E17: 500 | F17: 8.7 | G17: 20 | H17: 5 | I17: 3 | J17: SOD123
A18: ds18010.pdf | B18: MMSZ5239B | D18: Single | E18: 500 | F18: 9.1 | G18: 20 | H18: 5 | I18: 3 | J18: SOD123
A19: ds18010.pdf | B19: MMSZ5240B | D19: Single | E19: 500 | F19: 10 | G19: 20 | H19: 5 | I19: 3 | J19: SOD123
A20: ds18010.pdf | B20: MMSZ5241B | D20: Single | E20: 500 | F20: 11 | G20: 20 | H20: 5 | I20: 2 | J20: SOD123
A21: ds18010.pdf | B21: MMSZ5242B | D21: Single | E21: 500 | F21: 12 | G21: 20 | H21: 5 | I21: 1 | J21: SOD123
A22: ds18010.pdf | B22: MMSZ5243B | D22: Single | E22: 500 | F22: 13 | G22: 9.5 | H22: 5 | I22: 0.5 | J22: SOD123
A23: ds18010.pdf | B23: MMSZ5245B | D23: Single | E23: 500 | F23: 15 | G23: 8.5 | H23: 5 | I23: 0.1 | J23: SOD123
A24: ds18010.pdf | B24: MMSZ5246B | D24: Single | E24: 500 | F24: 16 | G24: 7.8 | H24: 5 | I24: 0.1 | J24: SOD123
A25: ds18010.pdf | B25: MMSZ5248B | D25: Single | E25: 500 | F25: 18 | G25: 7 | H25: 5 | I25: 0.1 | J25: SOD123
A26: ds18010.pdf | B26: MMSZ5250B | D26: Single | E26: 500 | F26: 20 | G26: 6.2 | H26: 5 | I26: 0.1 | J26: SOD123
A27: ds18010.pdf | B27: MMSZ5251B | D27: Single | E27: 500 | F27: 22 | G27: 5.6 | H27: 5 | I27: 0.1 | J27: SOD123
A28: ds18010.pdf | B28: MMSZ5252B | D28: Single | E28: 500 | F28: 24 | G28: 5.2 | H28: 5 | I28: 0.1 | J28: SOD123
... A35: ds31652.pdf | B35: MMSZ5263B | D35: Single | E35: 500 | F35: 56 | G35: 2.2 | H35: 5 | I35: 0.1 | J35: SOD123

Sheet Wire Table
A1: 中国、国际电工委员会、德国、SWG/AWG线规对照表
A2: 中国线规GB | B2: 国际电工线规IEC | C2: 德国标准线规DIE | D2: 英国 | E2: 标称 | F2: 美国 | G2: 标准
A3: 标称直径mm | B3: 标称直径mm | C3: 标称直径mm | D3: SWG | E3: 直径mm | F3: AWG | G3: 直径mm
A4: 0.02 | B4: 0.02 | E4: 0.02 | F4: 52 | G4: 0.02 | I4: =IF(Buck!$M$27=1," ",A4) -> 0.02
A5: 0.022 | B5: 0.022 | I5: =IF(Buck!$M$27=1," ",A5) -> 0.022
A6: 0.025 | B6: 0.025 | C6: 0.025 | D6: 50 | E6: 0.025 | F6: 50 | G6: 0.025 | I6: =IF(Buck!$M$27=1," ",A6) -> 0.025
A7: 0.028 | B7: 0.028 | I7: =IF(Buck!$M$27=1," ",A7) -> 0.028
A8: 0.032 | B8: 0.032 | C8: 0.032 | D8: 49 | E8: 0.031 | F8: 48 | G8: 0.032 | I8: =IF(Buck!$M$27=1," ",A8) -> 0.032
A9: 0.036 | B9: 0.036 | F9: 47 | G9: 0.035 | I9: =IF(Buck!$M$27=1," ",A9) -> 0.036
A10: 0.04 | B10: 0.04 | C10: 0.04 | D10: 48 | E10: 0.041 | F10: 46 | G10: 0.041 | I10: =IF(Buck!$M$27=1," ",A10) -> 0.04
A11: 0.045 | B11: 0.045 | F11: 45 | G11: 0.045 | I11: =IF(Buck!$M$27=1," ",A11) -> 0.045
A12: 0.05 | B12: 0.05 | C12: 0.05 | D12: 47 | E12: 0.051 | F12: 44 | G12: 0.05 | I12: =IF(Buck!$M$27=1," ",A12) -> 0.05
A13: 0.056 | B13: 0.056 | D13: 46 | E13: 0.061 | F13: 43 | G13: 0.056 | I13: =IF(Buck!$M$27=1," ",A13) -> 0.056
A14: 0.063 | B14: 0.063 | C14: 0.063 | D14: 45 | E14: 0.071 | F14: 42 | G14: 0.063 | I14: =IF(Buck!$M$27=1," ",A14) -> 0.063
A15: 0.071 | B15: 0.071 | C15: 0.071 | D15: 44 | E15: 0.081 | F15: 41 | G15: 0.071 | I15: =IF(Buck!$M$27=1," ",A15) -> 0.071
A16: 0.08 | B16: 0.08 | C16: 0.08 | D16: 43 | E16: 0.071 | F16: 40 | G16: 0.079 | I16: =IF(Buck!$M$27=1," ",A16) -> 0.08
A17: 0.09 | B17: 0.09 | C17: 0.09 | D17: 42 | E17: 0.102 | F17: 39 | G17: 0.089 | I17: =IF(Buck!$M$27=1," ",A17) -> 0.09
A18: 0.1 | B18: 0.1 | C18: 0.1 | D18: 41 | E18: 0.112 | F18: 38 | G18: 0.101 | I18: =IF(Buck!$M$27=1," ",A18) -> 0.1
A19: 0.112 | B19: 0.112 | C19: 0.112 | D19: 40 | E19: 0.122 | F19: 37 | G19: 0.113 | I19: =IF(Buck!$M$27=1," ",A19) -> 0.112
A20: 0.125 | B20: 0.125 | C20: 0.125 | D20: 39 | E20: 0.132 | F20: 36 | G20: 0.127 | I20: =IF(Buck!$M$27=1," ",A20) -> 0.125
A21: 0.14 | B21: 0.14 | C21: 0.14 | D21: 38 | E21: 0.152 | F21: 35 | G21: 0.143 | I21: =IF(Buck!$M$27=1," ",A21) -> 0.14
A22: 0.16 | B22: 0.16 | C22: 0.16 | D22: 37 | E22: 0.173 | F22: 34 | G22: 0.16 | I22: =IF(Buck!$M$27=1," ",A22) -> 0.16
A23: 0.18 | B23: 0.18 | C23: 0.18 | D23: 36 | E23: 0.193 | F23: 33 | G23: 0.18 | I23: =IF(Buck!$M$27=1," ",A23) -> 0.18
D24: 35 | E24: 0.213 | I24: =IF(Buck!$M$27=1," ",A24) -> 0
A25: 0.2 | B25: 0.2 | C25: 0.2 | D25: 34 | E25: 0.234 | F25: 32 | G25: 0.202 | I25: =IF(Buck!$M$27=1," ",A25) -> 0.2
A26: 0.224 | B26: 0.224 | C26: 0.224 | D26: 33 | E26: 0.245 | F26: 31 | G26: 0.227 | I26: =IF(Buck!$M$27=1," ",A26) -> 0.224
A27: 0.25 | B27: 0.25 | C27: 0.25 | D27: 31 | E27: 0.295 | F27: 30 | G27: 0.255 | I27: =IF(Buck!$M$27=1," ",A27) -> 0.25
A28: 0.28 | B28: 0.28 | C28: 0.28 | D28: 30 | E28: 0.315 | F28: 29 | G28: 0.286 | I28: =IF(Buck!$M$27=1," ",A28) -> 0.28
A29: 0.315 | B29: 0.315 | C29: 0.315 | D29: 29 | E29: 0.345 | F29: 28 | G29: 0.321 | I29: =IF(Buck!$M$27=1," ",A29) -> 0.315
A30: 0.355 | B30: 0.355 | C30: 0.355 | D30: 28 | E30: 0.376 | F30: 27 | G30: 0.361 | I30: =IF(Buck!$M$27=1," ",A30) -> 0.355
A31: 0.4 | B31: 0.4 | C31: 0.4 | D31: 27 | E31: 0.417 | F31: 26 | G31: 0.405 | I31: =IF(Buck!$M$27=1," ",A31) -> 0.4
A32: 0.45 | B32: 0.45 | C32: 0.45 | D32: 26 | E32: 0.457 | F32: 25 | G32: 0.455 | I32: =IF(Buck!$M$27=1," ",A32) -> 0.45
A33: 0.5 | B33: 0.5 | C33: 0.5 | D33: 25 | E33: 0.508 | I33: =IF(Buck!$M$27=1," ",A33) -> 0.5
A34: 0.56 | B34: 0.56 | D34: 24 | E34: 0.559 | I34: =IF(Buck!$M$27=1," ",A34) -> 0.56
A35: 0.6 | B35: 0.6 | D35: 23 | E35: 0.61 | F35: 24 | G35: 0.511 | I35: =IF(Buck!$M$27=1," ",A35) -> 0.6
A36: 0.63 | B36: 0.63 | C36: 0.63 | F36: 23 | G36: 0.574 | I36: =IF(Buck!$M$27=1," ",A36) -> 0.63
A37: 0.71 | B37: 0.71 | C37: 0.71 | F37: 22 | G37: 0.642 | I37: =IF(Buck!$M$27=1," ",A37) -> 0.71
A38: 0.75 | B38: 0.75 | C38: 0.75 | F38: 21 | G38: 0.724 | I38: =IF(Buck!$M$27=1," ",A38) -> 0.75
A39: 0.8 | B39: 0.8 | C39: 0.8 | D39: 22 | E39: 0.711 | G39: 0.812 | I39: =IF(Buck!$M$27=1," ",A39) -> 0.8
A40: 0.85 | B40: 0.85 | C40: 0.85 | D40: 21 | E40: 0.813 | F40: 20 | I40: =IF(Buck!$M$27=1," ",A40) -> 0.85
...

Sheet Sheet1
